BEGIN:VCALENDAR
VERSION:2.0
PRODID:-//Housing Authority of the County of San Bernardino - ECPv6.15.20//NONSGML v1.0//EN
CALSCALE:GREGORIAN
METHOD:PUBLISH
X-WR-CALNAME:Housing Authority of the County of San Bernardino
X-ORIGINAL-URL:https://hacsb.com
X-WR-CALDESC:Events for Housing Authority of the County of San Bernardino
REFRESH-INTERVAL;VALUE=DURATION:PT1H
X-Robots-Tag:noindex
X-PUBLISHED-TTL:PT1H
BEGIN:VTIMEZONE
TZID:America/Los_Angeles
BEGIN:DAYLIGHT
TZOFFSETFROM:-0800
TZOFFSETTO:-0700
TZNAME:PDT
DTSTART:20190310T100000
END:DAYLIGHT
BEGIN:STANDARD
TZOFFSETFROM:-0700
TZOFFSETTO:-0800
TZNAME:PST
DTSTART:20191103T090000
END:STANDARD
BEGIN:DAYLIGHT
TZOFFSETFROM:-0800
TZOFFSETTO:-0700
TZNAME:PDT
DTSTART:20200308T100000
END:DAYLIGHT
BEGIN:STANDARD
TZOFFSETFROM:-0700
TZOFFSETTO:-0800
TZNAME:PST
DTSTART:20201101T090000
END:STANDARD
BEGIN:DAYLIGHT
TZOFFSETFROM:-0800
TZOFFSETTO:-0700
TZNAME:PDT
DTSTART:20210314T100000
END:DAYLIGHT
BEGIN:STANDARD
TZOFFSETFROM:-0700
TZOFFSETTO:-0800
TZNAME:PST
DTSTART:20211107T090000
END:STANDARD
END:VTIMEZONE
BEGIN:VEVENT
DTSTART;TZID=America/Los_Angeles:20201203T140000
DTEND;TZID=America/Los_Angeles:20201203T150000
DTSTAMP:20260420T053416
CREATED:20201105T055419Z
LAST-MODIFIED:20210504T221934Z
UID:2012-1607004000-1607007600@hacsb.com
SUMMARY:New Landlord Workshop
DESCRIPTION:Interested in attending one of our virtual new landlord workshops? Clicking here to access the “Learn About Our Programs” section to RSVP to any of our three housing program office.
URL:https://hacsb.com/event/new-landlord-workshop/
END:VEVENT
BEGIN:VEVENT
DTSTART;TZID=America/Los_Angeles:20201201T100000
DTEND;TZID=America/Los_Angeles:20201201T110000
DTSTAMP:20260420T053416
CREATED:20201123T205826Z
LAST-MODIFIED:20201123T205826Z
UID:2162-1606816800-1606820400@hacsb.com
SUMMARY:FY 2021 Annual Moving to Work (MTW) Plan\, Amendment 1 Public Hearing
DESCRIPTION:HACSB’s FY 2021 Annual Moving to Work (MTW) Plan\, Amendment 1 is posted for Public Comment November 23\, 2020\, through December 23\, 2020. Click here to access a pdf copy of the 2021 Annual MTW Plan\, Amendment 1. Notice is hereby given that HACSB will conduct two public hearings regarding the proposed Plan. The hearings will be held on Tuesday\, December 1\, 2020 at 10:00 a.m. and Thursday\, December 10\, 2020\, at 2:00 p.m. Both public hearings will be held online and by telephone as virtual meetings through Zoom. To participate in a virtual public hearing\, please visit the Zoom website or call in using the information below. \nTuesday\, December 1\, 2020\, at 10:00 a.m. (PST) \nTo join online: \n\nGo to: https://us02web.zoom.us/j/89247016108\n\n\nEnter Meeting ID: 892 4701 6108\n\nTo join by phone: \n\nDial: 1-669-900-6833\nEnter meeting ID: 892 4701 6108\n\nInstructions for joining an online meeting through Zoom are available at: \nhttps://support.zoom.us/hc/en-us/articles/206618765-Zoom-Video-Tutorials?flash_digest=7e82b55704dea5980d0c6ba820b0e2a961d917ec \nAccessibility features for Zoom online meetings are available at: \nhttps://zoom.us/accessibility \nIf a citizen wishes to challenge the nature of the above action(s) in court he/she may be limited to raising only those issues he/she or someone else raised at the public hearing described in this notice\, or in written correspondence mailed to the HACSB Administrative Office\, ATTN: MTW Team\, 715 E. Brier Drive\, San Bernardino\, CA 92408 prior to the close of the public comment period on December 23\, 2020. \nIn accordance with the Rehabilitation Act of 1973\, HACSB will make reasonable efforts to accommodate persons with disabilities. Please call (909) 890-0644 at least three days in advance if you require special accommodations.
URL:https://hacsb.com/event/fy-2021-annual-moving-to-work-mtw-plan-amendment-1-public-hearing/
LOCATION:Teleconference Zoom Meeting
END:VEVENT
BEGIN:VEVENT
DTSTART;VALUE=DATE:20201127
DTEND;VALUE=DATE:20201128
DTSTAMP:20260420T053416
CREATED:20200828T004337Z
LAST-MODIFIED:20200828T004337Z
UID:893-1606435200-1606521599@hacsb.com
SUMMARY:Closed 11/27/20
DESCRIPTION:All HACSB offices closed every other Friday\, due to 9/80 work schedule
URL:https://hacsb.com/event/closed-11-27-20/
END:VEVENT
BEGIN:VEVENT
DTSTART;VALUE=DATE:20201126
DTEND;VALUE=DATE:20201127
DTSTAMP:20260420T053416
CREATED:20200828T004723Z
LAST-MODIFIED:20200828T004723Z
UID:901-1606348800-1606435199@hacsb.com
SUMMARY:Thanksgiving Holiday
DESCRIPTION:All HACSB offices closed in observance of the holiday
URL:https://hacsb.com/event/thanksgiving-holiday/
END:VEVENT
BEGIN:VEVENT
DTSTART;VALUE=DATE:20201125
DTEND;VALUE=DATE:20201126
DTSTAMP:20260420T053416
CREATED:20200828T004705Z
LAST-MODIFIED:20200828T004705Z
UID:900-1606262400-1606348799@hacsb.com
SUMMARY:Thanksgiving Holiday (Observed)
DESCRIPTION:All HACSB offices closed in observance of the holiday
URL:https://hacsb.com/event/thanksgiving-holiday-observed/
END:VEVENT
BEGIN:VEVENT
DTSTART;VALUE=DATE:20201113
DTEND;VALUE=DATE:20201114
DTSTAMP:20260420T053416
CREATED:20200828T004310Z
LAST-MODIFIED:20200828T004310Z
UID:892-1605225600-1605311999@hacsb.com
SUMMARY:Closed 11/13/20
DESCRIPTION:All HACSB offices closed every other Friday\, due to 9/80 work schedule
URL:https://hacsb.com/event/closed-11-13-20/
END:VEVENT
BEGIN:VEVENT
DTSTART;VALUE=DATE:20201111
DTEND;VALUE=DATE:20201112
DTSTAMP:20260420T053416
CREATED:20200828T004627Z
LAST-MODIFIED:20200828T004627Z
UID:899-1605052800-1605139199@hacsb.com
SUMMARY:Veterans Day
DESCRIPTION:All HACSB offices closed in observance of the holiday
URL:https://hacsb.com/event/veterans-day/
END:VEVENT
BEGIN:VEVENT
DTSTART;TZID=America/Los_Angeles:20201110T150000
DTEND;TZID=America/Los_Angeles:20201110T160000
DTSTAMP:20260420T053416
CREATED:20201008T195216Z
LAST-MODIFIED:20201008T195216Z
UID:1640-1605020400-1605024000@hacsb.com
SUMMARY:Board of Commissioners Regular Meeting
DESCRIPTION:
URL:https://hacsb.com/event/board-of-commissioners-regular-meeting/
LOCATION:Teleconference Zoom Meeting
END:VEVENT
BEGIN:VEVENT
DTSTART;VALUE=DATE:20201030
DTEND;VALUE=DATE:20201031
DTSTAMP:20260420T053416
CREATED:20200828T004240Z
LAST-MODIFIED:20200828T004240Z
UID:891-1604016000-1604102399@hacsb.com
SUMMARY:Closed 10/30/20
DESCRIPTION:All HACSB offices closed every other Friday\, due to 9/80 work schedule
URL:https://hacsb.com/event/closed-10-30-20/
END:VEVENT
BEGIN:VEVENT
DTSTART;VALUE=DATE:20201016
DTEND;VALUE=DATE:20201017
DTSTAMP:20260420T053416
CREATED:20200828T004207Z
LAST-MODIFIED:20200828T004207Z
UID:890-1602806400-1602892799@hacsb.com
SUMMARY:Closed 10/16/20
DESCRIPTION:All HACSB offices closed every other Friday\, due to 9/80 work schedule
URL:https://hacsb.com/event/closed-10-16-20/
END:VEVENT
BEGIN:VEVENT
DTSTART;VALUE=DATE:20201012
DTEND;VALUE=DATE:20201013
DTSTAMP:20260420T053416
CREATED:20200828T004607Z
LAST-MODIFIED:20200828T004607Z
UID:898-1602460800-1602547199@hacsb.com
SUMMARY:Columbus Day
DESCRIPTION:All HACSB offices closed in observance of the holiday
URL:https://hacsb.com/event/columbus-day/
END:VEVENT
BEGIN:VEVENT
DTSTART;VALUE=DATE:20201002
DTEND;VALUE=DATE:20201003
DTSTAMP:20260420T053416
CREATED:20200828T004141Z
LAST-MODIFIED:20200914T235704Z
UID:889-1601596800-1601683199@hacsb.com
SUMMARY:Closed 10/2/20
DESCRIPTION:All HACSB offices closed every other Friday\, due to 9/80 work schedule
URL:https://hacsb.com/event/closed-10-2-20/
END:VEVENT
BEGIN:VEVENT
DTSTART;VALUE=DATE:20200918
DTEND;VALUE=DATE:20200919
DTSTAMP:20260420T053416
CREATED:20200828T004057Z
LAST-MODIFIED:20200828T004057Z
UID:888-1600387200-1600473599@hacsb.com
SUMMARY:Closed 9/18/20
DESCRIPTION:All HACSB offices closed every other Friday\, due to 9/80 work schedule
URL:https://hacsb.com/event/closed-9-18-20/
END:VEVENT
BEGIN:VEVENT
DTSTART;VALUE=DATE:20200907
DTEND;VALUE=DATE:20200908
DTSTAMP:20260420T053416
CREATED:20200828T004551Z
LAST-MODIFIED:20200828T004551Z
UID:896-1599436800-1599523199@hacsb.com
SUMMARY:Labor Day
DESCRIPTION:All HACSB offices closed in observance of the holiday
URL:https://hacsb.com/event/labor-day/
END:VEVENT
BEGIN:VEVENT
DTSTART;VALUE=DATE:20200904
DTEND;VALUE=DATE:20200905
DTSTAMP:20260420T053416
CREATED:20200828T003515Z
LAST-MODIFIED:20200828T003515Z
UID:887-1599177600-1599263999@hacsb.com
SUMMARY:Closed 9/4/20
DESCRIPTION:All HACSB offices closed every other Friday\, due to 9/80 work schedule
URL:https://hacsb.com/event/closed-9-4-20/
END:VEVENT
END:VCALENDAR