BEGIN:VCALENDAR
VERSION:2.0
PRODID:-//Housing Authority of the County of San Bernardino - ECPv6.15.20//NONSGML v1.0//EN
CALSCALE:GREGORIAN
METHOD:PUBLISH
X-WR-CALNAME:Housing Authority of the County of San Bernardino
X-ORIGINAL-URL:https://hacsb.com
X-WR-CALDESC:Events for Housing Authority of the County of San Bernardino
REFRESH-INTERVAL;VALUE=DURATION:PT1H
X-Robots-Tag:noindex
X-PUBLISHED-TTL:PT1H
BEGIN:VTIMEZONE
TZID:America/Los_Angeles
BEGIN:DAYLIGHT
TZOFFSETFROM:-0800
TZOFFSETTO:-0700
TZNAME:PDT
DTSTART:20200308T100000
END:DAYLIGHT
BEGIN:STANDARD
TZOFFSETFROM:-0700
TZOFFSETTO:-0800
TZNAME:PST
DTSTART:20201101T090000
END:STANDARD
BEGIN:DAYLIGHT
TZOFFSETFROM:-0800
TZOFFSETTO:-0700
TZNAME:PDT
DTSTART:20210314T100000
END:DAYLIGHT
BEGIN:STANDARD
TZOFFSETFROM:-0700
TZOFFSETTO:-0800
TZNAME:PST
DTSTART:20211107T090000
END:STANDARD
BEGIN:DAYLIGHT
TZOFFSETFROM:-0800
TZOFFSETTO:-0700
TZNAME:PDT
DTSTART:20220313T100000
END:DAYLIGHT
BEGIN:STANDARD
TZOFFSETFROM:-0700
TZOFFSETTO:-0800
TZNAME:PST
DTSTART:20221106T090000
END:STANDARD
END:VTIMEZONE
BEGIN:VEVENT
DTSTART;VALUE=DATE:20210101
DTEND;VALUE=DATE:20210102
DTSTAMP:20260422T030027
CREATED:20200828T004901Z
LAST-MODIFIED:20200828T004901Z
UID:905-1609459200-1609545599@hacsb.com
SUMMARY:New Year's Day
DESCRIPTION:All HACSB offices closed in observance of the holiday
URL:https://hacsb.com/event/new-years-day/
END:VEVENT
BEGIN:VEVENT
DTSTART;TZID=America/Los_Angeles:20210107T140000
DTEND;TZID=America/Los_Angeles:20210107T150000
DTSTAMP:20260422T030027
CREATED:20201105T060059Z
LAST-MODIFIED:20201105T060438Z
UID:2013-1610028000-1610031600@hacsb.com
SUMMARY:New Landlord Workshop
DESCRIPTION:Interested in attending one of our virtual new landlord workshops? Clicking here to access the “Learn About Our Programs” section to RSVP to any of our three housing program office.
URL:https://hacsb.com/event/new-landlord-workshop-2/
END:VEVENT
BEGIN:VEVENT
DTSTART;VALUE=DATE:20210108
DTEND;VALUE=DATE:20210109
DTSTAMP:20260422T030027
CREATED:20200828T005425Z
LAST-MODIFIED:20200828T005425Z
UID:918-1610064000-1610150399@hacsb.com
SUMMARY:Closed 1/8/21
DESCRIPTION:All HACSB offices closed every other Friday\, due to 9/80 work schedule
URL:https://hacsb.com/event/closed-1-8-21/
END:VEVENT
BEGIN:VEVENT
DTSTART;TZID=America/Los_Angeles:20210112T150000
DTEND;TZID=America/Los_Angeles:20210112T160000
DTSTAMP:20260422T030027
CREATED:20201008T195916Z
LAST-MODIFIED:20201008T195916Z
UID:1642-1610463600-1610467200@hacsb.com
SUMMARY:Board of Commissioners Annual Meeting
DESCRIPTION:
URL:https://hacsb.com/event/board-of-commissioners-annual-meeting/
LOCATION:To Be Determined
END:VEVENT
BEGIN:VEVENT
DTSTART;VALUE=DATE:20210118
DTEND;VALUE=DATE:20210119
DTSTAMP:20260422T030027
CREATED:20200828T004926Z
LAST-MODIFIED:20200828T004926Z
UID:906-1610928000-1611014399@hacsb.com
SUMMARY:Martin Luther King's Birthday
DESCRIPTION:All HACSB offices closed in observance of the holiday
URL:https://hacsb.com/event/martin-luther-kings-birthday/
END:VEVENT
BEGIN:VEVENT
DTSTART;VALUE=DATE:20210122
DTEND;VALUE=DATE:20210123
DTSTAMP:20260422T030027
CREATED:20200828T005450Z
LAST-MODIFIED:20200828T005450Z
UID:919-1611273600-1611359999@hacsb.com
SUMMARY:Closed 1/22/21
DESCRIPTION:All HACSB offices closed every other Friday\, due to 9/80 work schedule
URL:https://hacsb.com/event/closed-1-22-21/
END:VEVENT
END:VCALENDAR