BEGIN:VCALENDAR
VERSION:2.0
PRODID:-//Housing Authority of the County of San Bernardino - ECPv6.15.20//NONSGML v1.0//EN
CALSCALE:GREGORIAN
METHOD:PUBLISH
X-WR-CALNAME:Housing Authority of the County of San Bernardino
X-ORIGINAL-URL:https://hacsb.com
X-WR-CALDESC:Events for Housing Authority of the County of San Bernardino
REFRESH-INTERVAL;VALUE=DURATION:PT1H
X-Robots-Tag:noindex
X-PUBLISHED-TTL:PT1H
BEGIN:VTIMEZONE
TZID:America/Los_Angeles
BEGIN:DAYLIGHT
TZOFFSETFROM:-0800
TZOFFSETTO:-0700
TZNAME:PDT
DTSTART:20200308T100000
END:DAYLIGHT
BEGIN:STANDARD
TZOFFSETFROM:-0700
TZOFFSETTO:-0800
TZNAME:PST
DTSTART:20201101T090000
END:STANDARD
BEGIN:DAYLIGHT
TZOFFSETFROM:-0800
TZOFFSETTO:-0700
TZNAME:PDT
DTSTART:20210314T100000
END:DAYLIGHT
BEGIN:STANDARD
TZOFFSETFROM:-0700
TZOFFSETTO:-0800
TZNAME:PST
DTSTART:20211107T090000
END:STANDARD
BEGIN:DAYLIGHT
TZOFFSETFROM:-0800
TZOFFSETTO:-0700
TZNAME:PDT
DTSTART:20220313T100000
END:DAYLIGHT
BEGIN:STANDARD
TZOFFSETFROM:-0700
TZOFFSETTO:-0800
TZNAME:PST
DTSTART:20221106T090000
END:STANDARD
END:VTIMEZONE
BEGIN:VEVENT
DTSTART;TZID=America/Los_Angeles:20210204T140000
DTEND;TZID=America/Los_Angeles:20210204T150000
DTSTAMP:20260424T042521
CREATED:20201105T060213Z
LAST-MODIFIED:20201105T060441Z
UID:2014-1612447200-1612450800@hacsb.com
SUMMARY:New Landlord Workshop
DESCRIPTION:Interested in attending one of our virtual new landlord workshops? Clicking here to access the “Learn About Our Programs” section to RSVP to any of our three housing program office.
URL:https://hacsb.com/event/new-landlord-workshop-3/
END:VEVENT
BEGIN:VEVENT
DTSTART;VALUE=DATE:20210205
DTEND;VALUE=DATE:20210206
DTSTAMP:20260424T042521
CREATED:20200828T005511Z
LAST-MODIFIED:20200828T005511Z
UID:920-1612483200-1612569599@hacsb.com
SUMMARY:Closed 2/5/21
DESCRIPTION:All HACSB offices closed every other Friday\, due to 9/80 work schedule
URL:https://hacsb.com/event/closed-2-5-21/
END:VEVENT
BEGIN:VEVENT
DTSTART;TZID=America/Los_Angeles:20210209T150000
DTEND;TZID=America/Los_Angeles:20210209T160000
DTSTAMP:20260424T042521
CREATED:20201008T200003Z
LAST-MODIFIED:20201008T200003Z
UID:1643-1612882800-1612886400@hacsb.com
SUMMARY:Board of Commissioners Regular Meeting
DESCRIPTION:
URL:https://hacsb.com/event/board-of-commissioners-regular-meeting-3/
LOCATION:To Be Determined
END:VEVENT
BEGIN:VEVENT
DTSTART;VALUE=DATE:20210215
DTEND;VALUE=DATE:20210216
DTSTAMP:20260424T042521
CREATED:20200828T004955Z
LAST-MODIFIED:20200828T004955Z
UID:907-1613347200-1613433599@hacsb.com
SUMMARY:President's Day
DESCRIPTION:All HACSB offices closed in observance of the holiday
URL:https://hacsb.com/event/presidents-day/
END:VEVENT
BEGIN:VEVENT
DTSTART;VALUE=DATE:20210219
DTEND;VALUE=DATE:20210220
DTSTAMP:20260424T042521
CREATED:20200828T005537Z
LAST-MODIFIED:20200828T005537Z
UID:921-1613692800-1613779199@hacsb.com
SUMMARY:Closed 2/19/21
DESCRIPTION:All HACSB offices closed every other Friday\, due to 9/80 work schedule
URL:https://hacsb.com/event/closed-2-19-21/
END:VEVENT
END:VCALENDAR