BEGIN:VCALENDAR
VERSION:2.0
PRODID:-//Housing Authority of the County of San Bernardino - ECPv6.15.20//NONSGML v1.0//EN
CALSCALE:GREGORIAN
METHOD:PUBLISH
X-WR-CALNAME:Housing Authority of the County of San Bernardino
X-ORIGINAL-URL:https://hacsb.com
X-WR-CALDESC:Events for Housing Authority of the County of San Bernardino
REFRESH-INTERVAL;VALUE=DURATION:PT1H
X-Robots-Tag:noindex
X-PUBLISHED-TTL:PT1H
BEGIN:VTIMEZONE
TZID:America/Los_Angeles
BEGIN:DAYLIGHT
TZOFFSETFROM:-0800
TZOFFSETTO:-0700
TZNAME:PDT
DTSTART:20220313T100000
END:DAYLIGHT
BEGIN:STANDARD
TZOFFSETFROM:-0700
TZOFFSETTO:-0800
TZNAME:PST
DTSTART:20221106T090000
END:STANDARD
BEGIN:DAYLIGHT
TZOFFSETFROM:-0800
TZOFFSETTO:-0700
TZNAME:PDT
DTSTART:20230312T100000
END:DAYLIGHT
BEGIN:STANDARD
TZOFFSETFROM:-0700
TZOFFSETTO:-0800
TZNAME:PST
DTSTART:20231105T090000
END:STANDARD
BEGIN:DAYLIGHT
TZOFFSETFROM:-0800
TZOFFSETTO:-0700
TZNAME:PDT
DTSTART:20240310T100000
END:DAYLIGHT
BEGIN:STANDARD
TZOFFSETFROM:-0700
TZOFFSETTO:-0800
TZNAME:PST
DTSTART:20241103T090000
END:STANDARD
END:VTIMEZONE
BEGIN:VEVENT
DTSTART;VALUE=DATE:20231009
DTEND;VALUE=DATE:20231010
DTSTAMP:20260420T025307
CREATED:20230118T215904Z
LAST-MODIFIED:20230118T215904Z
UID:3378-1696809600-1696895999@hacsb.com
SUMMARY:HACSB Offices Closed
DESCRIPTION:
URL:https://hacsb.com/event/hacsb-offices-closed-24/
END:VEVENT
BEGIN:VEVENT
DTSTART;TZID=America/Los_Angeles:20231010T150000
DTEND;TZID=America/Los_Angeles:20231010T160000
DTSTAMP:20260420T025307
CREATED:20230803T163855Z
LAST-MODIFIED:20230803T163855Z
UID:3589-1696950000-1696953600@hacsb.com
SUMMARY:Board of Commissioners Regular Meeting
DESCRIPTION:
URL:https://hacsb.com/event/board-of-commissioners-regular-meeting-30/
END:VEVENT
BEGIN:VEVENT
DTSTART;TZID=America/Los_Angeles:20231025T190000
DTEND;TZID=America/Los_Angeles:20231025T190000
DTSTAMP:20260420T025307
CREATED:20230926T192510Z
LAST-MODIFIED:20231006T191436Z
UID:3645-1698260400-1698260400@hacsb.com
SUMMARY:FREE Virtual Landlord Forum
DESCRIPTION:HACSB welcomes all rental property owners and managers in the County to participate in a free on-line Landlord Forum. \nOctober 25\, 2023\, from 5:30 to 7:00 p.m. on Zoom \nAgenda Topics: \n\nNew HUD Inspections Standards\nHACSB updates\nand more\n\nRegistration is required.  Register here: Meeting Registration – Zoom
URL:https://hacsb.com/event/free-virtual-landlord-forum-4/
END:VEVENT
END:VCALENDAR