BEGIN:VCALENDAR
VERSION:2.0
PRODID:-//Housing Authority of the County of San Bernardino - ECPv6.15.20//NONSGML v1.0//EN
CALSCALE:GREGORIAN
METHOD:PUBLISH
X-ORIGINAL-URL:https://hacsb.com
X-WR-CALDESC:Events for Housing Authority of the County of San Bernardino
REFRESH-INTERVAL;VALUE=DURATION:PT1H
X-Robots-Tag:noindex
X-PUBLISHED-TTL:PT1H
BEGIN:VTIMEZONE
TZID:America/Los_Angeles
BEGIN:DAYLIGHT
TZOFFSETFROM:-0800
TZOFFSETTO:-0700
TZNAME:PDT
DTSTART:20230312T100000
END:DAYLIGHT
BEGIN:STANDARD
TZOFFSETFROM:-0700
TZOFFSETTO:-0800
TZNAME:PST
DTSTART:20231105T090000
END:STANDARD
BEGIN:DAYLIGHT
TZOFFSETFROM:-0800
TZOFFSETTO:-0700
TZNAME:PDT
DTSTART:20240310T100000
END:DAYLIGHT
BEGIN:STANDARD
TZOFFSETFROM:-0700
TZOFFSETTO:-0800
TZNAME:PST
DTSTART:20241103T090000
END:STANDARD
BEGIN:DAYLIGHT
TZOFFSETFROM:-0800
TZOFFSETTO:-0700
TZNAME:PDT
DTSTART:20250309T100000
END:DAYLIGHT
BEGIN:STANDARD
TZOFFSETFROM:-0700
TZOFFSETTO:-0800
TZNAME:PST
DTSTART:20251102T090000
END:STANDARD
END:VTIMEZONE
BEGIN:VEVENT
DTSTART;VALUE=DATE:20240401
DTEND;VALUE=DATE:20240402
DTSTAMP:20260419T130726
CREATED:20240116T171317Z
LAST-MODIFIED:20240116T171317Z
UID:3796-1711929600-1712015999@hacsb.com
SUMMARY:HACSB Offices Closed
DESCRIPTION:
URL:https://hacsb.com/event/hacsb-offices-closed-46/
END:VEVENT
BEGIN:VEVENT
DTSTART;VALUE=DATE:20240412
DTEND;VALUE=DATE:20240413
DTSTAMP:20260419T130726
CREATED:20240116T171139Z
LAST-MODIFIED:20240116T171139Z
UID:3793-1712880000-1712966399@hacsb.com
SUMMARY:HACSB Offices Closed
DESCRIPTION:
URL:https://hacsb.com/event/hacsb-offices-closed-44/
END:VEVENT
BEGIN:VEVENT
DTSTART;TZID=America/Los_Angeles:20240416T150000
DTEND;TZID=America/Los_Angeles:20240416T163000
DTSTAMP:20260419T130726
CREATED:20240116T171844Z
LAST-MODIFIED:20240424T005039Z
UID:3803-1713279600-1713285000@hacsb.com
SUMMARY:Board of Commissioners Special Meeting
DESCRIPTION:
URL:https://hacsb.com/event/board-of-commissioners-regular-meeting-36/
END:VEVENT
BEGIN:VEVENT
DTSTART;VALUE=DATE:20240426
DTEND;VALUE=DATE:20240427
DTSTAMP:20260419T130726
CREATED:20240116T171220Z
LAST-MODIFIED:20240116T171220Z
UID:3797-1714089600-1714175999@hacsb.com
SUMMARY:HACSB Offices Closed
DESCRIPTION:
URL:https://hacsb.com/event/hacsb-offices-closed-45/
END:VEVENT
END:VCALENDAR